BEGIN:VCALENDAR
VERSION:2.0
PRODID:-//Mink Studios - ECPv6.15.20//NONSGML v1.0//EN
CALSCALE:GREGORIAN
METHOD:PUBLISH
X-ORIGINAL-URL:https://minkstudios.co.uk
X-WR-CALDESC:Events for Mink Studios
REFRESH-INTERVAL;VALUE=DURATION:PT1H
X-Robots-Tag:noindex
X-PUBLISHED-TTL:PT1H
BEGIN:VTIMEZONE
TZID:Europe/London
BEGIN:DAYLIGHT
TZOFFSETFROM:+0000
TZOFFSETTO:+0100
TZNAME:BST
DTSTART:20210328T010000
END:DAYLIGHT
BEGIN:STANDARD
TZOFFSETFROM:+0100
TZOFFSETTO:+0000
TZNAME:GMT
DTSTART:20211031T010000
END:STANDARD
BEGIN:DAYLIGHT
TZOFFSETFROM:+0000
TZOFFSETTO:+0100
TZNAME:BST
DTSTART:20220327T010000
END:DAYLIGHT
BEGIN:STANDARD
TZOFFSETFROM:+0100
TZOFFSETTO:+0000
TZNAME:GMT
DTSTART:20221030T010000
END:STANDARD
BEGIN:DAYLIGHT
TZOFFSETFROM:+0000
TZOFFSETTO:+0100
TZNAME:BST
DTSTART:20230326T010000
END:DAYLIGHT
BEGIN:STANDARD
TZOFFSETFROM:+0100
TZOFFSETTO:+0000
TZNAME:GMT
DTSTART:20231029T010000
END:STANDARD
END:VTIMEZONE
BEGIN:VEVENT
DTSTART;TZID=Europe/London:20220808T110000
DTEND;TZID=Europe/London:20220808T123000
DTSTAMP:20260422T112850
CREATED:20211204T000704Z
LAST-MODIFIED:20220614T152425Z
UID:10146-1659956400-1659961800@minkstudios.co.uk
SUMMARY:Eyelash & Eyebrow Tinting Course (Newcastle)
DESCRIPTION:Duration: 1/2 session (face to face)\nModel required for face to face session \nTheory – Online at home \nPricing Options:\nTraining with no kit: £75.00 +vat (£90.00) \nTinting Kit: £22.92 +vat (£27.50) \nAccredited by: The Guild & ABT\nPreReqs: None \nA DEPOSIT OF £50.00 +VAT SECURES A PLACE ON THE COURSE. T’s & C’s APPLY \nEyelash & Eyebrow Tinting Course (Newcastle) \nKits Available \n*Model Needed \nOption to add on the following on the same day –\nLash Lift\nBrow Wax \nEven when booking on-line we need to speak to you within 48 hours of booking to go through details\, please give us a call. \nPlease select your course and all the kits you require from the list below\, and add to your basket.
URL:https://minkstudios.co.uk/event/eyelash-eyebrow-tinting-course-newcastle-5/
LOCATION:Mink Studios\, Mink Studios\, 3 Abbotsford Park\, Whitley Bay\, Tyne & Wear\, NE25 8AT\, United Kingdom
CATEGORIES:Lash Courses,Lash Tinting Course,Tinting Course
ATTACH;FMTTYPE=image/jpeg:https://minkstudios.co.uk/wp-content/uploads/2020/10/otherbeautyimage-scaled.jpg
ORGANIZER;CN="Mink Studios":MAILTO:info@minkstudios.co.uk
END:VEVENT
BEGIN:VEVENT
DTSTART;TZID=Europe/London:20220711T110000
DTEND;TZID=Europe/London:20220711T123000
DTSTAMP:20260422T112850
CREATED:20211206T212643Z
LAST-MODIFIED:20220413T222438Z
UID:10200-1657537200-1657542600@minkstudios.co.uk
SUMMARY:Eyelash & Eyebrow Tinting Course (Newcastle)
DESCRIPTION:Duration: 1/2 session (face to face)\nModel required for face to face session \nTheory – Online at home \nPricing Options:\nTraining with no kit: £75.00 +vat (£90.00) \nTinting Kit: £22.92 +vat (£27.50) \nAccredited by: The Guild & ABT\nPreReqs: None \n  \nEyelash & Eyebrow Tinting Course (Newcastle) \nKits Available \n*Model Needed \nOption to add on the following on the same day –\nLash Lift\nBrow Wax \n  \nPlease select your course and if you require a kit from the list below\, and add to your basket. Please bring your own kit if not purchasing one. \n  \nChoose deposit and pay the rest on the day OR pay in full. If you don’t want to purchase the training kit please bring your own kit to use on the day.  \n  \nPay in instalments avalible through our sister academy website\, please contact us for more information. \nCalling – 0191 2903805\nEmailing – info@minkstudios.co.uk 
URL:https://minkstudios.co.uk/event/eyelash-eyebrow-tinting-course-newcastle-6/
LOCATION:Mink Studios\, Mink Studios\, 3 Abbotsford Park\, Whitley Bay\, Tyne & Wear\, NE25 8AT\, United Kingdom
CATEGORIES:Beauty Courses,Lash Courses,Lash Tinting Course,Tinting Course
ATTACH;FMTTYPE=image/jpeg:https://minkstudios.co.uk/wp-content/uploads/2020/10/otherbeautyimage-scaled.jpg
ORGANIZER;CN="Mink Studios":MAILTO:info@minkstudios.co.uk
END:VEVENT
END:VCALENDAR